BEGIN:VCALENDAR
VERSION:2.0
PRODID:-//Lëtzebuerger Studenten Wien - ECPv4.6.19//NONSGML v1.0//EN
CALSCALE:GREGORIAN
METHOD:PUBLISH
X-WR-CALNAME:Lëtzebuerger Studenten Wien
X-ORIGINAL-URL:https://lsw.lu
X-WR-CALDESC:Veranstaltungen für Lëtzebuerger Studenten Wien
BEGIN:VEVENT
DTSTART;TZID=Europe/Luxembourg:20171013T200000
DTEND;TZID=Europe/Luxembourg:20171013T200000
DTSTAMP:20180701T211640
CREATED:20170917T155535Z
LAST-MODIFIED:20170917T155535Z
UID:1802-1507924800-1507924800@lsw.lu
SUMMARY:LSW Welcome Party 2017
DESCRIPTION:  \n \nFacebook-Link : LSW Welcome Party \n  \nServus zu Wien! \nWat gëtt et Besseres wei den Semesterstart mat enger Party unzefänken? Eng Party mat Fräibéier! \nKomm den 13ten Oktober um 20:00 an den Weberknecht mam LSW\, neien an alen Memberen op dat neit Semester prosten. \nWann s du also un enger Memberskaart Interesséiert bass\, dann mell dech iwwert dësen Formular un: https://docs.google.com/forms/d/e/1FAIpQLSdqwyfaSX6mDi2EbEmcoodfp-Q3btXR38zNpM769qNBBbbjzg/viewform?usp=sf_link \, bezuelen kanns du op der Welcome Party bei eis. \nOp der Place hues du dann och d’Méiglechkeet eng LSW Memberskaart\, fir 15€\, ze kafen. Dës gëllt een ganzt Joer an du kanns domatten op verschiddenen vun eisen Evenementer\, wéi zum Beispill der Daf\, dem Saufest\, Beach Tournoi\, Pub Quiz an nach villen aneren\, deelhuelen. Ausserdeem erhäls du domadder den LSW Newsletter\, sou bass de ëmmer top informéiert iwwert eis Evenementer\, Intercercles an villes méi. \nZudeem kanns du dech op der Welcome Party an iwwert den Google Sheet fir eis traditionell Daf\, den 4ten November\, umellen an dech op een lëschtegen Nomëtten an Owend freeën! \nAlso komm bis laanscht\, léier nei Leit kennen an feier mat eis den Start vum Joer! An denk drun deen éischten ass fir\, wann keen Béier méi do ass\, dann ass keen méi do. \nÄren LSW Comité \n\n\njQuery(document).ready(function($) {\n	$.post('https://lsw.lu/wp-admin/admin-ajax.php'\, {action: 'wpt_view_count'\, id: '1802'});\n});\n
URL:https://lsw.lu/event/lsw-welcome-party-2017/
END:VEVENT
END:VCALENDAR