BEGIN:VCALENDAR
VERSION:2.0
PRODID:-//Lëtzebuerger Studenten Wien - ECPv4.6.19//NONSGML v1.0//EN
CALSCALE:GREGORIAN
METHOD:PUBLISH
X-WR-CALNAME:Lëtzebuerger Studenten Wien
X-ORIGINAL-URL:https://lsw.lu
X-WR-CALDESC:Veranstaltungen für Lëtzebuerger Studenten Wien
BEGIN:VEVENT
DTSTART;TZID=Europe/Luxembourg:20171215T190000
DTEND;TZID=Europe/Luxembourg:20171215T220000
DTSTAMP:20180701T211315
CREATED:20171121T141105Z
LAST-MODIFIED:20171121T141105Z
UID:1826-1513364400-1513375200@lsw.lu
SUMMARY:LSW Stammdësch Weihnachts-Editioun 2017
DESCRIPTION:Facebook-Link : LSW Stammdësch Weihnachts-Editioun 2017\n \n  \nServus léif LSW’ler\, \nen Freiden\, den 15. Dezember invitéieren mer iech op eisen Stammdësch um Weihnachtsmarkt Altes AKH. \nWann´s de Loscht hues e gemittlechen Owend mat eis ze verbréngen\, eis fleit en puer Verbesserungsvirschléi oder Ideen fir nei Evenementer matzedeelen\, dann komm laanscht an drénk een Patt mat eis. \nRendez-vous ass ab 19:00h an den Weihnachtsmarkt ass bis 22:00h op. Dono geht et awer sëcher nach net heem ;)! \nMir wäerten eis op der grousser Platz an der Mëtt treffen\, an halen iech och iwwert Facebook om Lafenden wou mir genee drun sinn. \nMat beschte Gréiss\, \nären Comité \n\n\njQuery(document).ready(function($) {\n	$.post('https://lsw.lu/wp-admin/admin-ajax.php'\, {action: 'wpt_view_count'\, id: '1826'});\n});\n
URL:https://lsw.lu/event/lsw-stammdesch-weihnachts-editioun-2017/
END:VEVENT
END:VCALENDAR