BEGIN:VCALENDAR
VERSION:2.0
PRODID:-//Lëtzebuerger Studenten Wien - ECPv6.15.20//NONSGML v1.0//EN
CALSCALE:GREGORIAN
METHOD:PUBLISH
X-WR-CALNAME:Lëtzebuerger Studenten Wien
X-ORIGINAL-URL:https://lsw.lu
X-WR-CALDESC:Veranstaltungen für Lëtzebuerger Studenten Wien
REFRESH-INTERVAL;VALUE=DURATION:PT1H
X-Robots-Tag:noindex
X-PUBLISHED-TTL:PT1H
BEGIN:VTIMEZONE
TZID:Europe/Luxembourg
BEGIN:DAYLIGHT
TZOFFSETFROM:+0100
TZOFFSETTO:+0200
TZNAME:CEST
DTSTART:20160327T010000
END:DAYLIGHT
BEGIN:STANDARD
TZOFFSETFROM:+0200
TZOFFSETTO:+0100
TZNAME:CET
DTSTART:20161030T010000
END:STANDARD
BEGIN:DAYLIGHT
TZOFFSETFROM:+0100
TZOFFSETTO:+0200
TZNAME:CEST
DTSTART:20170326T010000
END:DAYLIGHT
BEGIN:STANDARD
TZOFFSETFROM:+0200
TZOFFSETTO:+0100
TZNAME:CET
DTSTART:20171029T010000
END:STANDARD
BEGIN:DAYLIGHT
TZOFFSETFROM:+0100
TZOFFSETTO:+0200
TZNAME:CEST
DTSTART:20180325T010000
END:DAYLIGHT
BEGIN:STANDARD
TZOFFSETFROM:+0200
TZOFFSETTO:+0100
TZNAME:CET
DTSTART:20181028T010000
END:STANDARD
END:VTIMEZONE
BEGIN:VEVENT
DTSTART;TZID=Europe/Luxembourg:20170505T200000
DTEND;TZID=Europe/Luxembourg:20170505T200000
DTSTAMP:20260424T210846
CREATED:20170502T133123Z
LAST-MODIFIED:20170502T133123Z
UID:1749-1494014400-1494014400@lsw.lu
SUMMARY:LSW Stammdësch 2017
DESCRIPTION:  \nFacebook-Link: https://www.facebook.com/events/209867776183642/ \nServus léif LSW’ler\, \nen Freiden\, den 05. Mäi invitéieren mer erëm op eisen Stammdësch an den Weinpavillon op der Summerstage (Roßauer Lände).\nWann s de Loscht hues e gemittlechen Owend mat eis ze verbréngen\, eis fleit en puer Verbesserungsvirschléi oder Ideen fir nei Evenementer mat ze deelen\, dann komm laanscht an drénk ee Patt mat eis. \nRendez-vous ass ab 20h00\, an w.e.g. dréck op Zousoen wann s de kenns\, fir dass mer kennen genuch Platzen reservéieren. \nMat beschte Gréiss\, \nären Comité
URL:https://lsw.lu/event/lsw-stammdesch-2017/
LOCATION:Summerstage Weinpavillon\, Roßauer Lände\, Wien\, Wien\,  \, Österreich
END:VEVENT
END:VCALENDAR