BEGIN:VCALENDAR
VERSION:2.0
PRODID:-//Lëtzebuerger Studenten Wien - ECPv6.15.20//NONSGML v1.0//EN
CALSCALE:GREGORIAN
METHOD:PUBLISH
X-WR-CALNAME:Lëtzebuerger Studenten Wien
X-ORIGINAL-URL:https://lsw.lu
X-WR-CALDESC:Veranstaltungen für Lëtzebuerger Studenten Wien
REFRESH-INTERVAL;VALUE=DURATION:PT1H
X-Robots-Tag:noindex
X-PUBLISHED-TTL:PT1H
BEGIN:VTIMEZONE
TZID:Europe/Luxembourg
BEGIN:DAYLIGHT
TZOFFSETFROM:+0100
TZOFFSETTO:+0200
TZNAME:CEST
DTSTART:20160327T010000
END:DAYLIGHT
BEGIN:STANDARD
TZOFFSETFROM:+0200
TZOFFSETTO:+0100
TZNAME:CET
DTSTART:20161030T010000
END:STANDARD
BEGIN:DAYLIGHT
TZOFFSETFROM:+0100
TZOFFSETTO:+0200
TZNAME:CEST
DTSTART:20170326T010000
END:DAYLIGHT
BEGIN:STANDARD
TZOFFSETFROM:+0200
TZOFFSETTO:+0100
TZNAME:CET
DTSTART:20171029T010000
END:STANDARD
BEGIN:DAYLIGHT
TZOFFSETFROM:+0100
TZOFFSETTO:+0200
TZNAME:CEST
DTSTART:20180325T010000
END:DAYLIGHT
BEGIN:STANDARD
TZOFFSETFROM:+0200
TZOFFSETTO:+0100
TZNAME:CET
DTSTART:20181028T010000
END:STANDARD
END:VTIMEZONE
BEGIN:VEVENT
DTSTART;VALUE=DATE:20171227
DTEND;VALUE=DATE:20171229
DTSTAMP:20260424T214335
CREATED:20171205T092816Z
LAST-MODIFIED:20171205T092816Z
UID:1832-1514332800-1514505599@lsw.lu
SUMMARY:LSW goes Tournoi de Noël 2017
DESCRIPTION:Facebook-Link: Tournoi de Noel 2017 \nGläich heescht et erëm LSW goes Tournoi de Noël :)! \nTreffpunkt ass wéi ëmmer moies um Campus Geesseknäppchen. \n27. Dezember am Volleyball + Basket\n28. Dezember am Fussball \nD´SportlerInnen vum LSW géifen sech frëen wann e bëssen Stëmmung an der Hal wier! Also kommt laanscht an ënnerstëtzt eis Ekippen! Mir sinn op all Supporter ugewisen! \nLescht Joer konnten mir d´Finale am Basket vir eis entscheeden an mir hoffen dass mir dëst Joer erëm genau sou fit um Terrain wäerten stoen an allen dräi Sportaarten! \nMee net nëmmen um Terrain wëllen mir d´Coupe gewannen\, mee d´Ziel ass et\, no enger zimlech knapper Defaite am leschten Joer\, och den prix de consommation fir eis ze entscheeden!\nE puer Béier fir de gudden Zweck drénken\, wann dat keng Motivatioun ass? \nLass geet et jeeweils moies frei wou d´Gruppephase gespillt gëtt. Mëttes stinn dann Finalen um Programm. Fir Iessen a Gesëffs ass de ganzen Dag iwwer gesuergt! \nHei nach de Link vun der offizieller Veranstaltung vun der ACEL: \nhttps://www.facebook.com/events/1441827029264503/ \nBis den 27. a 28. Dezember!\nMir zielen op Iech! \nÄren LSW Comité
URL:https://lsw.lu/event/lsw-goes-tournoi-de-noel-2017/
LOCATION:Geeseknäppchen
END:VEVENT
END:VCALENDAR