BEGIN:VCALENDAR
VERSION:2.0
PRODID:-//Lëtzebuerger Studenten Wien - ECPv6.15.20//NONSGML v1.0//EN
CALSCALE:GREGORIAN
METHOD:PUBLISH
X-WR-CALNAME:Lëtzebuerger Studenten Wien
X-ORIGINAL-URL:https://lsw.lu
X-WR-CALDESC:Veranstaltungen für Lëtzebuerger Studenten Wien
REFRESH-INTERVAL;VALUE=DURATION:PT1H
X-Robots-Tag:noindex
X-PUBLISHED-TTL:PT1H
BEGIN:VTIMEZONE
TZID:Europe/Luxembourg
BEGIN:DAYLIGHT
TZOFFSETFROM:+0100
TZOFFSETTO:+0200
TZNAME:CEST
DTSTART:20160327T010000
END:DAYLIGHT
BEGIN:STANDARD
TZOFFSETFROM:+0200
TZOFFSETTO:+0100
TZNAME:CET
DTSTART:20161030T010000
END:STANDARD
BEGIN:DAYLIGHT
TZOFFSETFROM:+0100
TZOFFSETTO:+0200
TZNAME:CEST
DTSTART:20170326T010000
END:DAYLIGHT
BEGIN:STANDARD
TZOFFSETFROM:+0200
TZOFFSETTO:+0100
TZNAME:CET
DTSTART:20171029T010000
END:STANDARD
BEGIN:DAYLIGHT
TZOFFSETFROM:+0100
TZOFFSETTO:+0200
TZNAME:CEST
DTSTART:20180325T010000
END:DAYLIGHT
BEGIN:STANDARD
TZOFFSETFROM:+0200
TZOFFSETTO:+0100
TZNAME:CET
DTSTART:20181028T010000
END:STANDARD
END:VTIMEZONE
BEGIN:VEVENT
DTSTART;TZID=Europe/Luxembourg:20170722T110000
DTEND;TZID=Europe/Luxembourg:20170722T110000
DTSTAMP:20260424T214207
CREATED:20170619T074641Z
LAST-MODIFIED:20170619T074641Z
UID:1795-1500721200-1500721200@lsw.lu
SUMMARY:LSW goes Stau
DESCRIPTION:Facebook-Link  \nMir lueden iech Samschdes den 22.07.2017 an mat eis op der Rommwiss zu Bauschelt om Stau ze grillen an een relaxen Dag ze verbréngen :)! \nLass geet ed um 11:00 an mir bieden iech äert Gedrénks an Gegrills (inkl. Griller) selwer matzebréngen! \nMir hoffen dass den Dag alles mam Wieder wäert klappen\, mais am Fall wou ed net allze gutt sollt ginn wäerten mir iech um Lafenden haalen ob d´Event stattfënnt oder net :)! \n  \nÄren LSW Comité
URL:https://lsw.lu/event/lsw-goes-stau/
END:VEVENT
END:VCALENDAR