BEGIN:VCALENDAR
VERSION:2.0
PRODID:-//Lëtzebuerger Studenten Wien - ECPv4.6.19//NONSGML v1.0//EN
CALSCALE:GREGORIAN
METHOD:PUBLISH
X-WR-CALNAME:Lëtzebuerger Studenten Wien
X-ORIGINAL-URL:https://lsw.lu
X-WR-CALDESC:Veranstaltungen für Lëtzebuerger Studenten Wien
BEGIN:VEVENT
DTSTART;TZID=Europe/Luxembourg:20180628T080000
DTEND;TZID=Europe/Luxembourg:20180628T170000
DTSTAMP:20180701T024334
CREATED:20180628T192023Z
LAST-MODIFIED:20180628T192023Z
UID:1958-1530172800-1530205200@lsw.lu
SUMMARY:LSW Closing 09.06.2018
DESCRIPTION: \n  \nServus léif LSW’ler\, \nen Samschden\, den 9. Juni invitéieren mer erëm op eisen Closing Stammdësch an den Weinpavillon (Summerstage\, Roßauer Lände 17\, 1090 Wien). \nWann’s de Loscht hues e gemittlechen Owend mat eis ze verbréngen\, déi leschte Kéier virun der Prüfungszäit an éier et erëm zréck op Lëtzebuerg geet\, dann komm laanscht an drénk ee Patt mat eis. \nEt ass fir 30 Leit reservéiert\, dofir dréck w.e.g. beim Event op Zusagen wann’s du kenns. \nRendezvous ass ab 19h30. \nMat beschte Gréiss\,\nären LSW Comité \n\n\njQuery(document).ready(function($) {\n	$.post('https://lsw.lu/wp-admin/admin-ajax.php'\, {action: 'wpt_view_count'\, id: '1958'});\n});\n
URL:https://lsw.lu/event/lsw-closing-09-06-2018/
END:VEVENT
END:VCALENDAR