BEGIN:VCALENDAR
VERSION:2.0
PRODID:-//Lëtzebuerger Studenten Wien - ECPv6.15.20//NONSGML v1.0//EN
CALSCALE:GREGORIAN
METHOD:PUBLISH
X-WR-CALNAME:Lëtzebuerger Studenten Wien
X-ORIGINAL-URL:https://lsw.lu
X-WR-CALDESC:Veranstaltungen für Lëtzebuerger Studenten Wien
REFRESH-INTERVAL;VALUE=DURATION:PT1H
X-Robots-Tag:noindex
X-PUBLISHED-TTL:PT1H
BEGIN:VTIMEZONE
TZID:Europe/Luxembourg
BEGIN:DAYLIGHT
TZOFFSETFROM:+0100
TZOFFSETTO:+0200
TZNAME:CEST
DTSTART:20170326T010000
END:DAYLIGHT
BEGIN:STANDARD
TZOFFSETFROM:+0200
TZOFFSETTO:+0100
TZNAME:CET
DTSTART:20171029T010000
END:STANDARD
BEGIN:DAYLIGHT
TZOFFSETFROM:+0100
TZOFFSETTO:+0200
TZNAME:CEST
DTSTART:20180325T010000
END:DAYLIGHT
BEGIN:STANDARD
TZOFFSETFROM:+0200
TZOFFSETTO:+0100
TZNAME:CET
DTSTART:20181028T010000
END:STANDARD
BEGIN:DAYLIGHT
TZOFFSETFROM:+0100
TZOFFSETTO:+0200
TZNAME:CEST
DTSTART:20190331T010000
END:DAYLIGHT
BEGIN:STANDARD
TZOFFSETFROM:+0200
TZOFFSETTO:+0100
TZNAME:CET
DTSTART:20191027T010000
END:STANDARD
END:VTIMEZONE
BEGIN:VEVENT
DTSTART;TZID=Europe/Luxembourg:20180216T190000
DTEND;TZID=Europe/Luxembourg:20180217T030000
DTSTAMP:20260424T211000
CREATED:20180108T131338Z
LAST-MODIFIED:20180108T131338Z
UID:1838-1518807600-1518836400@lsw.lu
SUMMARY:Hüttenzauber 2.0
DESCRIPTION:Facebook-Link: Hüttenzauber 2.0 \n  \n\n\nD’lëtzebuerger Studente vu Innsbruck a Wien invitéieren iech op hir 2te Editioun vum HÜTTENZAUBER. \n\n\n \n\n\nDëst kéier am Aula Café am Gronn\, den 16. Februar 2018!\n\n\n \n\n\nLass geet et um 19h!\n\n\n \n\n\nD‘ Entrée ass gratis! Gaudi Musek leeft och! Dass et iech och net ze kal gëtt kritt dir Glühwäin an Mumba (Schocki mat Rum) bei eis ze kafen. \n\n\nEppes fir de eidele Moo gëtt et natierlech och!\n\n\n \n\n\nKommt all an d’Aula laanscht a loosst eis op eng wuelverdéngte Fuesvakanz ustoussen!\n\n\n \n\n\nMir freeën eis op iech!\n\n\nLSI & LSW
URL:https://lsw.lu/event/huettenzauber-2-0/
END:VEVENT
END:VCALENDAR